BEGIN:VCALENDAR
VERSION:2.0
PRODID:-//AfD Neckar-Odenwald-Kreis - ECPv6.15.20//NONSGML v1.0//EN
CALSCALE:GREGORIAN
METHOD:PUBLISH
X-WR-CALNAME:AfD Neckar-Odenwald-Kreis
X-ORIGINAL-URL:https://www.afd-nok.de
X-WR-CALDESC:Veranstaltungen für AfD Neckar-Odenwald-Kreis
REFRESH-INTERVAL;VALUE=DURATION:PT1H
X-Robots-Tag:noindex
X-PUBLISHED-TTL:PT1H
BEGIN:VTIMEZONE
TZID:Europe/Berlin
BEGIN:DAYLIGHT
TZOFFSETFROM:+0100
TZOFFSETTO:+0200
TZNAME:CEST
DTSTART:20240331T010000
END:DAYLIGHT
BEGIN:STANDARD
TZOFFSETFROM:+0200
TZOFFSETTO:+0100
TZNAME:CET
DTSTART:20241027T010000
END:STANDARD
BEGIN:DAYLIGHT
TZOFFSETFROM:+0100
TZOFFSETTO:+0200
TZNAME:CEST
DTSTART:20250330T010000
END:DAYLIGHT
BEGIN:STANDARD
TZOFFSETFROM:+0200
TZOFFSETTO:+0100
TZNAME:CET
DTSTART:20251026T010000
END:STANDARD
BEGIN:DAYLIGHT
TZOFFSETFROM:+0100
TZOFFSETTO:+0200
TZNAME:CEST
DTSTART:20260329T010000
END:DAYLIGHT
BEGIN:STANDARD
TZOFFSETFROM:+0200
TZOFFSETTO:+0100
TZNAME:CET
DTSTART:20261025T010000
END:STANDARD
END:VTIMEZONE
BEGIN:VEVENT
DTSTART;TZID=Europe/Berlin:20250526T183000
DTEND;TZID=Europe/Berlin:20250526T183000
DTSTAMP:20260421T191333
CREATED:20250322T142732Z
LAST-MODIFIED:20250515T130520Z
UID:2540-1748284200-1748284200@www.afd-nok.de
SUMMARY:Vortrag von Emely Knorr & Stephan Schwarz
DESCRIPTION:In der Bundesrepublik unserer Tage ist eine Frau nicht einfach eine Frau. Das Frausein wird genauso wegdefiniert wie die Schutz- und Rückzugsräume der Frauen\, und selbst Männer können plötzlich als „Frau“ zählen. Wer es wagt\, dies zu kritisieren\, wird sogar mit Gewalt vom linken politischen Spektrum angegangen. \nIm Buch „Mutfrauen. Erfolgreich mit Qualität. Ohne Quote. Ohne Quatsch.“\, herausgegeben von Stephan Schwarz\, kommen bekannte und weniger bekannte Frauen aus dem Umfeld der AfD zu Wort. Das Geleitwort ist von Beatrix von Storch (MdB)\, doch auch Gerrit Huy (MdB)\, Carola Wolle (MdL)\, Diana Zimmer (MdB) und viele mehr kommen zu Wort. \nEine davon ist Emely Knorr\, die das Buch zusammen mit Stephan Schwarz am Montag\, 26. Mai 2025 um 19 Uhr in Mosbach vorstellen wird. \nWir freuen uns über Ihre Teilnahme! Gerne können Sie andere Interessenten mitbringen. \nBei Interesse schreiben Sie bitte an vorstand@afd-nok.de
URL:https://www.afd-nok.de/veranstaltung/vortrag-mai2025/
CATEGORIES:Stammtische
ATTACH;FMTTYPE=image/jpeg:https://www.afd-nok.de/wp-content/uploads/2025/03/Mutfrauen.jpg
END:VEVENT
END:VCALENDAR