BEGIN:VCALENDAR
VERSION:2.0
PRODID:-//AfD Neckar-Odenwald-Kreis - ECPv6.15.20//NONSGML v1.0//EN
CALSCALE:GREGORIAN
METHOD:PUBLISH
X-ORIGINAL-URL:https://www.afd-nok.de
X-WR-CALDESC:Veranstaltungen für AfD Neckar-Odenwald-Kreis
REFRESH-INTERVAL;VALUE=DURATION:PT1H
X-Robots-Tag:noindex
X-PUBLISHED-TTL:PT1H
BEGIN:VTIMEZONE
TZID:Europe/Berlin
BEGIN:DAYLIGHT
TZOFFSETFROM:+0100
TZOFFSETTO:+0200
TZNAME:CEST
DTSTART:20240331T010000
END:DAYLIGHT
BEGIN:STANDARD
TZOFFSETFROM:+0200
TZOFFSETTO:+0100
TZNAME:CET
DTSTART:20241027T010000
END:STANDARD
BEGIN:DAYLIGHT
TZOFFSETFROM:+0100
TZOFFSETTO:+0200
TZNAME:CEST
DTSTART:20250330T010000
END:DAYLIGHT
BEGIN:STANDARD
TZOFFSETFROM:+0200
TZOFFSETTO:+0100
TZNAME:CET
DTSTART:20251026T010000
END:STANDARD
BEGIN:DAYLIGHT
TZOFFSETFROM:+0100
TZOFFSETTO:+0200
TZNAME:CEST
DTSTART:20260329T010000
END:DAYLIGHT
BEGIN:STANDARD
TZOFFSETFROM:+0200
TZOFFSETTO:+0100
TZNAME:CET
DTSTART:20261025T010000
END:STANDARD
END:VTIMEZONE
BEGIN:VEVENT
DTSTART;TZID=Europe/Berlin:20251022T180000
DTEND;TZID=Europe/Berlin:20251022T180000
DTSTAMP:20260419T154627
CREATED:20250811T142656Z
LAST-MODIFIED:20251011T144552Z
UID:2689-1761156000-1761156000@www.afd-nok.de
SUMMARY:Vortrag von Heinrich Koch
DESCRIPTION:Der neu gewählte Bundestagsabgeordnete Heinrich Koch berichtet über seine Arbeit. \nKoch war Berufssoldat im Dienstgrad des Oberstleutnants. Er ist Wirtschaftsingenieur und Master of Engineering in Traffic Accident Research der technischen Universität Graz. Im Anschluss daran arbeitete er als Projekt-Ingenieur in den USA – in Washington und San Francisco. Im Bundestag ist er ordentliches Mitglied im Verteidigungsausschuss und stellvertretendes Mitglied im Auswärtigen Ausschuss und in der Parlamentarischen Versammlung des Europarates. \nDie Veranstaltung wurde von Montag auf Mittwoch verschoben\, ebenso hat sich die Lokalität geändert. Beginn ist bereits um 18 Uhr.
URL:https://www.afd-nok.de/veranstaltung/vortrag-oktober2025/
LOCATION:Neckar-Odenwald-Kreis
CATEGORIES:Stammtische,Veranstaltungen
END:VEVENT
END:VCALENDAR