BEGIN:VCALENDAR
VERSION:2.0
PRODID:-//AfD Neckar-Odenwald-Kreis - ECPv6.15.20//NONSGML v1.0//EN
CALSCALE:GREGORIAN
METHOD:PUBLISH
X-ORIGINAL-URL:https://www.afd-nok.de
X-WR-CALDESC:Veranstaltungen für AfD Neckar-Odenwald-Kreis
REFRESH-INTERVAL;VALUE=DURATION:PT1H
X-Robots-Tag:noindex
X-PUBLISHED-TTL:PT1H
BEGIN:VTIMEZONE
TZID:Europe/Berlin
BEGIN:DAYLIGHT
TZOFFSETFROM:+0100
TZOFFSETTO:+0200
TZNAME:CEST
DTSTART:20240331T010000
END:DAYLIGHT
BEGIN:STANDARD
TZOFFSETFROM:+0200
TZOFFSETTO:+0100
TZNAME:CET
DTSTART:20241027T010000
END:STANDARD
BEGIN:DAYLIGHT
TZOFFSETFROM:+0100
TZOFFSETTO:+0200
TZNAME:CEST
DTSTART:20250330T010000
END:DAYLIGHT
BEGIN:STANDARD
TZOFFSETFROM:+0200
TZOFFSETTO:+0100
TZNAME:CET
DTSTART:20251026T010000
END:STANDARD
BEGIN:DAYLIGHT
TZOFFSETFROM:+0100
TZOFFSETTO:+0200
TZNAME:CEST
DTSTART:20260329T010000
END:DAYLIGHT
BEGIN:STANDARD
TZOFFSETFROM:+0200
TZOFFSETTO:+0100
TZNAME:CET
DTSTART:20261025T010000
END:STANDARD
END:VTIMEZONE
BEGIN:VEVENT
DTSTART;TZID=Europe/Berlin:20250130T180000
DTEND;TZID=Europe/Berlin:20250130T180000
DTSTAMP:20260421T161517
CREATED:20250111T145809Z
LAST-MODIFIED:20250111T145822Z
UID:2396-1738260000-1738260000@www.afd-nok.de
SUMMARY:Kandidatenvorstellung Johann Martel in Wertheim
DESCRIPTION:Lernen Sie den Direktkandidaten der AfD im Wahlkreis 276 Odenwald-Tauber kennen! Johann Martel kommt am Donnerstag\, 30. Januar 2025 um 18 Uhr nach Wertheim. \nBei Interesse schreiben Sie bitte eine E-Mail an vorstand@afd-nok.de \nWir freuen uns auf Ihren Besuch!
URL:https://www.afd-nok.de/veranstaltung/johann-martel-wertheim/
LOCATION:97877 Wertheim\, Wertheim\, 97877\, Germany
CATEGORIES:Veranstaltungen,Wahlen
ATTACH;FMTTYPE=image/jpeg:https://www.afd-nok.de/wp-content/uploads/2025/01/lu-wa-delux-online-scaled.jpg
END:VEVENT
END:VCALENDAR