BEGIN:VCALENDAR
VERSION:2.0
PRODID:-//AfD Neckar-Odenwald-Kreis - ECPv6.15.20//NONSGML v1.0//EN
CALSCALE:GREGORIAN
METHOD:PUBLISH
X-ORIGINAL-URL:https://www.afd-nok.de
X-WR-CALDESC:Veranstaltungen für AfD Neckar-Odenwald-Kreis
REFRESH-INTERVAL;VALUE=DURATION:PT1H
X-Robots-Tag:noindex
X-PUBLISHED-TTL:PT1H
BEGIN:VTIMEZONE
TZID:Europe/Berlin
BEGIN:DAYLIGHT
TZOFFSETFROM:+0100
TZOFFSETTO:+0200
TZNAME:CEST
DTSTART:20240331T010000
END:DAYLIGHT
BEGIN:STANDARD
TZOFFSETFROM:+0200
TZOFFSETTO:+0100
TZNAME:CET
DTSTART:20241027T010000
END:STANDARD
BEGIN:DAYLIGHT
TZOFFSETFROM:+0100
TZOFFSETTO:+0200
TZNAME:CEST
DTSTART:20250330T010000
END:DAYLIGHT
BEGIN:STANDARD
TZOFFSETFROM:+0200
TZOFFSETTO:+0100
TZNAME:CET
DTSTART:20251026T010000
END:STANDARD
BEGIN:DAYLIGHT
TZOFFSETFROM:+0100
TZOFFSETTO:+0200
TZNAME:CEST
DTSTART:20260329T010000
END:DAYLIGHT
BEGIN:STANDARD
TZOFFSETFROM:+0200
TZOFFSETTO:+0100
TZNAME:CET
DTSTART:20261025T010000
END:STANDARD
END:VTIMEZONE
BEGIN:VEVENT
DTSTART;TZID=Europe/Berlin:20250321T183000
DTEND;TZID=Europe/Berlin:20250321T183000
DTSTAMP:20260421T224031
CREATED:20250305T181241Z
LAST-MODIFIED:20250305T181241Z
UID:2531-1742581800-1742581800@www.afd-nok.de
SUMMARY:Vortrag zum Heizungsgesetz
DESCRIPTION:Der Installateur und Heizungsbaumeister Nikolaos Boutakoglou hält einen Vortrag zum Heizungsgesetz. Bei Interesse schreiben Sie bitte an vorstand@afd-nok.de
URL:https://www.afd-nok.de/veranstaltung/vortrag-zum-heizungsgesetz/
LOCATION:Neckar-Odenwald-Kreis
CATEGORIES:Stammtische,Veranstaltungen
ATTACH;FMTTYPE=image/jpeg:https://www.afd-nok.de/wp-content/uploads/2025/03/Nikolaos-Boutakoglou-Veranstaltung.jpg
END:VEVENT
END:VCALENDAR