BEGIN:VCALENDAR
VERSION:2.0
PRODID:-//AfD Neckar-Odenwald-Kreis - ECPv6.15.20//NONSGML v1.0//EN
CALSCALE:GREGORIAN
METHOD:PUBLISH
X-WR-CALNAME:AfD Neckar-Odenwald-Kreis
X-ORIGINAL-URL:https://www.afd-nok.de
X-WR-CALDESC:Veranstaltungen für AfD Neckar-Odenwald-Kreis
REFRESH-INTERVAL;VALUE=DURATION:PT1H
X-Robots-Tag:noindex
X-PUBLISHED-TTL:PT1H
BEGIN:VTIMEZONE
TZID:Europe/Berlin
BEGIN:DAYLIGHT
TZOFFSETFROM:+0100
TZOFFSETTO:+0200
TZNAME:CEST
DTSTART:20230326T010000
END:DAYLIGHT
BEGIN:STANDARD
TZOFFSETFROM:+0200
TZOFFSETTO:+0100
TZNAME:CET
DTSTART:20231029T010000
END:STANDARD
BEGIN:DAYLIGHT
TZOFFSETFROM:+0100
TZOFFSETTO:+0200
TZNAME:CEST
DTSTART:20240331T010000
END:DAYLIGHT
BEGIN:STANDARD
TZOFFSETFROM:+0200
TZOFFSETTO:+0100
TZNAME:CET
DTSTART:20241027T010000
END:STANDARD
BEGIN:DAYLIGHT
TZOFFSETFROM:+0100
TZOFFSETTO:+0200
TZNAME:CEST
DTSTART:20250330T010000
END:DAYLIGHT
BEGIN:STANDARD
TZOFFSETFROM:+0200
TZOFFSETTO:+0100
TZNAME:CET
DTSTART:20251026T010000
END:STANDARD
END:VTIMEZONE
BEGIN:VEVENT
DTSTART;TZID=Europe/Berlin:20241029T183000
DTEND;TZID=Europe/Berlin:20241029T183000
DTSTAMP:20260421T190955
CREATED:20241007T124241Z
LAST-MODIFIED:20241015T185503Z
UID:2232-1730226600-1730226600@www.afd-nok.de
SUMMARY:Ramona Storm (MdL Bayern) im Neckar-Odenwald
DESCRIPTION:Ramona Storm\, Mitglied des Bayerischen Landtags und Kollegin unseres benachbarten Wahlkreises Unterfranken\, kommt uns besuchen und stellt sich und ihre Arbeit vor. \nRamona Storm war von 2020 bis 2023 Stadträtin in Aschaffenburg\, ist seit 2023 Mitglied im Landtag Bayern (Wahlkreis Unterfranken) und Mitglied im Vorstand des KV Aschaffenburg\, sowie Mitglied in den Vereinen „Christen in der AfD“ und im „Verein Deutsche Sprache“. \nIm Landtag ist sie Mitglied im Ausschuss für Bildung und Kultus\, Mitglied im Ausschuss für Fragen des öffentlichen Dienstes\, sowie Mitglied des Landesgesundheitsrates. Sie betreut die Wahlkreise der Landkreise Miltenberg und Main-Spessart. In Kleinwallstadt betreibt sie ein Bürgerbüro. Vor ihrem Renteneintritt war sie als Krankenschwester tätig. \nBei Interesse an der Teilnahme wenden Sie sich bitte an den Kreisvorstand per E-Mail an vorstand@afd-nok.de
URL:https://www.afd-nok.de/veranstaltung/ramona-storm/
LOCATION:Mosbach\, Mosbach
CATEGORIES:Stammtische,Veranstaltungen
END:VEVENT
END:VCALENDAR