BEGIN:VCALENDAR
VERSION:2.0
PRODID:-//AfD Neckar-Odenwald-Kreis - ECPv6.15.20//NONSGML v1.0//EN
CALSCALE:GREGORIAN
METHOD:PUBLISH
X-WR-CALNAME:AfD Neckar-Odenwald-Kreis
X-ORIGINAL-URL:https://www.afd-nok.de
X-WR-CALDESC:Veranstaltungen für AfD Neckar-Odenwald-Kreis
REFRESH-INTERVAL;VALUE=DURATION:PT1H
X-Robots-Tag:noindex
X-PUBLISHED-TTL:PT1H
BEGIN:VTIMEZONE
TZID:UTC
BEGIN:STANDARD
TZOFFSETFROM:+0000
TZOFFSETTO:+0000
TZNAME:UTC
DTSTART:20230101T000000
END:STANDARD
END:VTIMEZONE
BEGIN:VEVENT
DTSTART;TZID=UTC:20240720T140000
DTEND;TZID=UTC:20240720T140000
DTSTAMP:20260420T020053
CREATED:20240615T213733Z
LAST-MODIFIED:20240617T121622Z
UID:1781-1721484000-1721484000@www.afd-nok.de
SUMMARY:Sommerfest 2024 der AfD Neckar-Odenwald
DESCRIPTION:Bei unserem diesjährigen Sommerfest mit Grillen möchten wir unseren Wahlerfolg und 11 Jahre AfD feiern! Los geht es bereits um 14 Uhr! \nBei Interesse an der Teilnahme wenden Sie sich bitte an den Kreisvorstand per E-Mail an vorstand@afd-nok.de \nWir bitten auch alle Mitglieder und Förderer um eine Anmeldung beim Vorstand\, damit die benötigen Kapazitäten geplant werden können!
URL:https://www.afd-nok.de/veranstaltung/sommerfest2024/
CATEGORIES:Veranstaltungen
ATTACH;FMTTYPE=image/jpeg:https://www.afd-nok.de/wp-content/uploads/2024/06/sommerfest-nok.jpg
END:VEVENT
END:VCALENDAR