BEGIN:VCALENDAR
VERSION:2.0
PRODID:-//AfD Neckar-Odenwald-Kreis - ECPv6.15.20//NONSGML v1.0//EN
CALSCALE:GREGORIAN
METHOD:PUBLISH
X-WR-CALNAME:AfD Neckar-Odenwald-Kreis
X-ORIGINAL-URL:https://www.afd-nok.de
X-WR-CALDESC:Veranstaltungen für AfD Neckar-Odenwald-Kreis
REFRESH-INTERVAL;VALUE=DURATION:PT1H
X-Robots-Tag:noindex
X-PUBLISHED-TTL:PT1H
BEGIN:VTIMEZONE
TZID:Europe/Berlin
BEGIN:DAYLIGHT
TZOFFSETFROM:+0100
TZOFFSETTO:+0200
TZNAME:CEST
DTSTART:20230326T010000
END:DAYLIGHT
BEGIN:STANDARD
TZOFFSETFROM:+0200
TZOFFSETTO:+0100
TZNAME:CET
DTSTART:20231029T010000
END:STANDARD
BEGIN:DAYLIGHT
TZOFFSETFROM:+0100
TZOFFSETTO:+0200
TZNAME:CEST
DTSTART:20240331T010000
END:DAYLIGHT
BEGIN:STANDARD
TZOFFSETFROM:+0200
TZOFFSETTO:+0100
TZNAME:CET
DTSTART:20241027T010000
END:STANDARD
BEGIN:DAYLIGHT
TZOFFSETFROM:+0100
TZOFFSETTO:+0200
TZNAME:CEST
DTSTART:20250330T010000
END:DAYLIGHT
BEGIN:STANDARD
TZOFFSETFROM:+0200
TZOFFSETTO:+0100
TZNAME:CET
DTSTART:20251026T010000
END:STANDARD
END:VTIMEZONE
BEGIN:VEVENT
DTSTART;TZID=Europe/Berlin:20241220T180000
DTEND;TZID=Europe/Berlin:20241220T180000
DTSTAMP:20260421T173520
CREATED:20241207T201212Z
LAST-MODIFIED:20251111T141010Z
UID:2348-1734717600-1734717600@www.afd-nok.de
SUMMARY:Weihnachtsfeier 2024
DESCRIPTION:Der Kreisverband Neckar-Odenwald-Kreis lädt alle Mitglieder\, Freunde und Interessenten zur Weihnachtsfeier ein. \nAls Gast kommt der Landtagsabgeordnete Miguel Klauß. Der verkehrspolitische und wohnungspolitische Sprecher der AfD-Landtagsfraktion berichtet von seiner Arbeit im Landtag von Baden-Württemberg. \nBei Interesse an der Teilnahme schreiben Sie uns: vorstand@afd-nok.de
URL:https://www.afd-nok.de/veranstaltung/weihnachtsfeier-2024/
CATEGORIES:Stammtische,Veranstaltungen
ATTACH;FMTTYPE=image/jpeg:https://www.afd-nok.de/wp-content/uploads/2024/12/Weihnachtsfeier-NOK-Oeffentlich.jpg
END:VEVENT
END:VCALENDAR